BEGIN:VCALENDAR
VERSION:2.0
PRODID:-//brasshoppers.ch//NONSGML kigkonsult.se iCalcreator 2.16.12//
METHOD:PUBLISH
X-MS-OLK-FORCEINSPECTOROPEN:TRUE
BEGIN:VEVENT
UID:20260420T143607CEST-52145uuJiR@brasshoppers.ch
DTSTAMP:20260420T123607Z
DESCRIPTION:
DTSTART:20260612T173000
DTEND:20260612T180000
LOCATION:Wohlen\, Kasino
ORGANIZER:MAILTO:brasshoppers.ch <info@brasshoppers.ch>
SUMMARY:'ibw persönlich'
END:VEVENT
END:VCALENDAR
