BEGIN:VCALENDAR
VERSION:2.0
PRODID:-//brasshoppers.ch//NONSGML kigkonsult.se iCalcreator 2.16.12//
METHOD:PUBLISH
X-MS-OLK-FORCEINSPECTOROPEN:TRUE
BEGIN:VEVENT
UID:20260420T143533CEST-1016mNJbsv@brasshoppers.ch
DTSTAMP:20260420T123533Z
DESCRIPTION:
DTSTART:20260510T140000
DTEND:20260510T150000
LOCATION:Niederwil\, Reusspark
ORGANIZER:MAILTO:brasshoppers.ch <info@brasshoppers.ch>
SUMMARY:Muttertags-Konzert
END:VEVENT
END:VCALENDAR
