BEGIN:VCALENDAR
VERSION:2.0
PRODID:-//brasshoppers.ch//NONSGML kigkonsult.se iCalcreator 2.16.12//
METHOD:PUBLISH
X-MS-OLK-FORCEINSPECTOROPEN:TRUE
BEGIN:VEVENT
UID:20260420T143610CEST-99904jA3eT@brasshoppers.ch
DTSTAMP:20260420T123610Z
DESCRIPTION:
DTSTART:20260514T000000
DTEND:20260517T000000
LOCATION:Thun
ORGANIZER:MAILTO:brasshoppers.ch <info@brasshoppers.ch>
SUMMARY:Crazy-Weekend Region Thun
END:VEVENT
END:VCALENDAR
