BEGIN:VCALENDAR
VERSION:2.0
PRODID:-//brasshoppers.ch//NONSGML kigkonsult.se iCalcreator 2.16.12//
METHOD:PUBLISH
X-MS-OLK-FORCEINSPECTOROPEN:TRUE
BEGIN:VEVENT
UID:20260420T143608CEST-4295zsOHEW@brasshoppers.ch
DTSTAMP:20260420T123608Z
DESCRIPTION:
DTSTART:20260523T183000
DTEND:20260523T193000
LOCATION:Bremgarten\, Casino
ORGANIZER:MAILTO:brasshoppers.ch <info@brasshoppers.ch>
SUMMARY:Sousiwanderung
END:VEVENT
END:VCALENDAR
