BEGIN:VCALENDAR
VERSION:2.0
PRODID:-//brasshoppers.ch//NONSGML kigkonsult.se iCalcreator 2.16.12//
METHOD:PUBLISH
X-MS-OLK-FORCEINSPECTOROPEN:TRUE
BEGIN:VEVENT
UID:20260420T143531CEST-30246Wfvm4@brasshoppers.ch
DTSTAMP:20260420T123531Z
DESCRIPTION:
DTSTART:20260702T163000
DTEND:20260702T190000
LOCATION:Brugg\, Campus
ORGANIZER:MAILTO:brasshoppers.ch <info@brasshoppers.ch>
SUMMARY:QV-Feier Baumeisterverband Aargau
END:VEVENT
END:VCALENDAR
