BEGIN:VCALENDAR
VERSION:2.0
PRODID:-//brasshoppers.ch//NONSGML kigkonsult.se iCalcreator 2.16.12//
METHOD:PUBLISH
X-MS-OLK-FORCEINSPECTOROPEN:TRUE
BEGIN:VEVENT
UID:20260420T143526CEST-8163jEdU0t@brasshoppers.ch
DTSTAMP:20260420T123526Z
DESCRIPTION:Mit Apéro nach dem Gottesdienst - musikalische Umrahmung durch 
 die Mini Hoppers
DTSTART:20260510T093000
DTEND:20260510T113000
LOCATION:Sarmenstorf\, Kath. Kirche
ORGANIZER:MAILTO:brasshoppers.ch <info@brasshoppers.ch>
SUMMARY:Gottesdienst und Muttertagskonzert
END:VEVENT
END:VCALENDAR
