BEGIN:VCALENDAR
VERSION:2.0
PRODID:-//brasshoppers.ch//NONSGML kigkonsult.se iCalcreator 2.16.12//
METHOD:PUBLISH
X-MS-OLK-FORCEINSPECTOROPEN:TRUE
BEGIN:VEVENT
UID:20260420T143610CEST-3620NVbWAP@brasshoppers.ch
DTSTAMP:20260420T123610Z
DESCRIPTION:
DTSTART:20260529T190000
DTEND:20260529T200000
LOCATION:Wohlenschwil
ORGANIZER:MAILTO:brasshoppers.ch <info@brasshoppers.ch>
SUMMARY:Party on Fire
END:VEVENT
END:VCALENDAR
