BEGIN:VCALENDAR
VERSION:2.0
PRODID:-//brasshoppers.ch//NONSGML kigkonsult.se iCalcreator 2.16.12//
METHOD:PUBLISH
X-MS-OLK-FORCEINSPECTOROPEN:TRUE
BEGIN:VEVENT
UID:20260420T143604CEST-8132RN6nIf@brasshoppers.ch
DTSTAMP:20260420T123604Z
DESCRIPTION:
DTSTART:20260829T113000
DTEND:20260829T120000
LOCATION:Meisterschwanden\, Kirchgemeindehaus
ORGANIZER:MAILTO:brasshoppers.ch <info@brasshoppers.ch>
SUMMARY:7 Jahre 'Wolke Nr. 7'
END:VEVENT
END:VCALENDAR
