BEGIN:VCALENDAR
VERSION:2.0
PRODID:-//brasshoppers.ch//NONSGML kigkonsult.se iCalcreator 2.16.12//
METHOD:PUBLISH
X-MS-OLK-FORCEINSPECTOROPEN:TRUE
BEGIN:VEVENT
UID:20260420T143527CEST-7070E4R497@brasshoppers.ch
DTSTAMP:20260420T123527Z
DESCRIPTION:
DTSTART:20260613T161500
DTEND:20260613T170000
LOCATION:Fislisbach\, Sportareal
ORGANIZER:MAILTO:brasshoppers.ch <info@brasshoppers.ch>
SUMMARY:Memberfestival Raiffeisen Mutschellen
END:VEVENT
END:VCALENDAR
