BEGIN:VCALENDAR
VERSION:2.0
PRODID:-//brasshoppers.ch//NONSGML kigkonsult.se iCalcreator 2.16.12//
METHOD:PUBLISH
X-MS-OLK-FORCEINSPECTOROPEN:TRUE
BEGIN:VEVENT
UID:20260420T143532CEST-2025sRsOW5@brasshoppers.ch
DTSTAMP:20260420T123532Z
DESCRIPTION:Verschiebedatum: 20.05.2026
DTSTART:20260513T190000
DTEND:20260513T210000
LOCATION:Taverne\, Jonen
ORGANIZER:MAILTO:brasshoppers.ch <info@brasshoppers.ch>
SUMMARY:Taverne Jonen
END:VEVENT
END:VCALENDAR
