BEGIN:VCALENDAR
VERSION:2.0
PRODID:-//brasshoppers.ch//NONSGML kigkonsult.se iCalcreator 2.16.12//
METHOD:PUBLISH
X-MS-OLK-FORCEINSPECTOROPEN:TRUE
BEGIN:VEVENT
UID:20260420T143607CEST-9625MTugj5@brasshoppers.ch
DTSTAMP:20260420T123607Z
DESCRIPTION:
DTSTART:20260523T110000
DTEND:20260523T120000
LOCATION:Sternenplatz
ORGANIZER:MAILTO:brasshoppers.ch <info@brasshoppers.ch>
SUMMARY:Wochenmarkt Wohlen
END:VEVENT
END:VCALENDAR
