BEGIN:VCALENDAR
VERSION:2.0
PRODID:-//brasshoppers.ch//NONSGML kigkonsult.se iCalcreator 2.16.12//
METHOD:PUBLISH
X-MS-OLK-FORCEINSPECTOROPEN:TRUE
BEGIN:VEVENT
UID:20260420T143606CEST-64051HdPNS@brasshoppers.ch
DTSTAMP:20260420T123606Z
DESCRIPTION:Verschiebedatum: 20.05.2026
DTSTART:20260731T190000
DTEND:20260731T210000
LOCATION:Merenschwand
ORGANIZER:MAILTO:brasshoppers.ch <info@brasshoppers.ch>
SUMMARY:Merenschwand Bundesfeier
END:VEVENT
END:VCALENDAR
