BEGIN:VCALENDAR
VERSION:2.0
PRODID:-//brasshoppers.ch//NONSGML kigkonsult.se iCalcreator 2.16.12//
METHOD:PUBLISH
X-MS-OLK-FORCEINSPECTOROPEN:TRUE
BEGIN:VEVENT
UID:20260420T143601CEST-10286uVRLH@brasshoppers.ch
DTSTAMP:20260420T123601Z
DESCRIPTION:
DTSTART:20261107T153000
DTEND:20261107T163000
LOCATION:Muri Pflegimuri\, Dachsaal
ORGANIZER:MAILTO:brasshoppers.ch <info@brasshoppers.ch>
SUMMARY:Nachmittagskonzert Muri
END:VEVENT
END:VCALENDAR
